BEGIN:VCALENDAR
VERSION:2.0
PRODID:-//Igreja Cristã da Trindade - ECPv6.13.2.1//NONSGML v1.0//EN
CALSCALE:GREGORIAN
METHOD:PUBLISH
X-ORIGINAL-URL:https://ictrindade.com.br
X-WR-CALDESC:Eventos para Igreja Cristã da Trindade
REFRESH-INTERVAL;VALUE=DURATION:PT1H
X-Robots-Tag:noindex
X-PUBLISHED-TTL:PT1H
BEGIN:VTIMEZONE
TZID:America/Sao_Paulo
BEGIN:STANDARD
TZOFFSETFROM:-0300
TZOFFSETTO:-0300
TZNAME:-03
DTSTART:20210101T000000
END:STANDARD
END:VTIMEZONE
BEGIN:VEVENT
DTSTART;TZID=America/Sao_Paulo:20220611T150000
DTEND;TZID=America/Sao_Paulo:20220611T170000
DTSTAMP:20260423T180305
CREATED:20220106T110059Z
LAST-MODIFIED:20220602T011655Z
UID:2538-1654959600-1654966800@ictrindade.com.br
SUMMARY:Feirinha - Min. Infantil
DESCRIPTION:
URL:https://ictrindade.com.br/evento/feirinha-min-infantil/
ORGANIZER;CN="Igreja Crist%C3%A3 da Trindade":MAILTO:falecom@ictrindade.com.br
END:VEVENT
BEGIN:VEVENT
DTSTART;TZID=America/Sao_Paulo:20220528T170000
DTEND;TZID=America/Sao_Paulo:20220528T190000
DTSTAMP:20260423T180305
CREATED:20220105T140007Z
LAST-MODIFIED:20220125T192114Z
UID:2536-1653757200-1653764400@ictrindade.com.br
SUMMARY:Momento mulher - Maio 2022
DESCRIPTION:
URL:https://ictrindade.com.br/evento/momento-mulher-maio-2022/
ORGANIZER;CN="Igreja Crist%C3%A3 da Trindade":MAILTO:falecom@ictrindade.com.br
END:VEVENT
BEGIN:VEVENT
DTSTART;TZID=America/Sao_Paulo:20220514T150000
DTEND;TZID=America/Sao_Paulo:20220514T190000
DTSTAMP:20260423T180305
CREATED:20220105T130044Z
LAST-MODIFIED:20220503T135632Z
UID:2573-1652540400-1652554800@ictrindade.com.br
SUMMARY:Chá para as mamães\, vovós e titias
DESCRIPTION:O ministério Infantil da Igreja Cristã da Trindade fara um maravilhoso chá para todas as mamães\, vovós e titias.\n.\n🔴 14 de Maio – 15h.\n.\n📍 Igreja Cristã da Trindade – SEDE.\n.\nTema: O que é ser mãe (com a irmã Alzira).\nDicas de maquiagem: com a irmã Priscila Camilo (esteticista);💄💅\nDicas de moda: com a Rosinha;👠👗💃\n.\n🎁 Sorteio de kits da Natura!\n.\nAs crianças participarão nos ajudando na organização e servido o Chá. 👧🧒\n.\nHaverá atividade para as crianças menores em sala própria. 👶\n.\nAnote na sua agenda📝\n.\n____________\n#ictkids #ict #ministérioinfantil #palavradedeus #meuspequeninos #criançaspracristo #rededecrianças #chadatarde
URL:https://ictrindade.com.br/evento/cha-para-as-mamaes-vovos-e-titias/
END:VEVENT
BEGIN:VEVENT
DTSTART;VALUE=DATE:20220508
DTEND;VALUE=DATE:20220509
DTSTAMP:20260423T180305
CREATED:20220105T110052Z
LAST-MODIFIED:20220125T190344Z
UID:2532-1651968000-1652054399@ictrindade.com.br
SUMMARY:Dia das mães - Min. Infantil
DESCRIPTION:
URL:https://ictrindade.com.br/evento/dia-das-maes-min-infantil/
END:VEVENT
BEGIN:VEVENT
DTSTART;TZID=America/Sao_Paulo:20220430T190000
DTEND;TZID=America/Sao_Paulo:20220430T210000
DTSTAMP:20260423T180305
CREATED:20220104T160024Z
LAST-MODIFIED:20220319T020214Z
UID:2519-1651345200-1651352400@ictrindade.com.br
SUMMARY:Culto de Casais - Abril 2022
DESCRIPTION:
URL:https://ictrindade.com.br/evento/culto-de-casais-abril-2022/
END:VEVENT
BEGIN:VEVENT
DTSTART;TZID=America/Sao_Paulo:20220423T170000
DTEND;TZID=America/Sao_Paulo:20220423T190000
DTSTAMP:20260423T180305
CREATED:20220104T140037Z
LAST-MODIFIED:20220328T154526Z
UID:2530-1650733200-1650740400@ictrindade.com.br
SUMMARY:Momento Mulher - Abril 2022
DESCRIPTION:
URL:https://ictrindade.com.br/evento/momento-mulher-abril-2022/
END:VEVENT
BEGIN:VEVENT
DTSTART;TZID=America/Sao_Paulo:20220415T150000
DTEND;TZID=America/Sao_Paulo:20220415T170000
DTSTAMP:20260423T180305
CREATED:20220104T120039Z
LAST-MODIFIED:20220125T190017Z
UID:2528-1650034800-1650042000@ictrindade.com.br
SUMMARY:Evento da Páscoa - Min. Infantil
DESCRIPTION:
URL:https://ictrindade.com.br/evento/evento-da-pascoa-min-infantil/
ORGANIZER;CN="Igreja Crist%C3%A3 da Trindade":MAILTO:falecom@ictrindade.com.br
END:VEVENT
BEGIN:VEVENT
DTSTART;VALUE=DATE:20220326
DTEND;VALUE=DATE:20220327
DTSTAMP:20260423T180305
CREATED:20220103T150017Z
LAST-MODIFIED:20220125T185115Z
UID:2521-1648252800-1648339199@ictrindade.com.br
SUMMARY:Momento Mulher - Março 2022
DESCRIPTION:
URL:https://ictrindade.com.br/evento/momento-mulher-marco-2022/
END:VEVENT
BEGIN:VEVENT
DTSTART;VALUE=DATE:20220313
DTEND;VALUE=DATE:20220314
DTSTAMP:20260423T180305
CREATED:20220103T130024Z
LAST-MODIFIED:20220125T185151Z
UID:2517-1647129600-1647215999@ictrindade.com.br
SUMMARY:Dia da Mulher 2022
DESCRIPTION:
URL:https://ictrindade.com.br/evento/dia-da-mulher-2022/
END:VEVENT
BEGIN:VEVENT
DTSTART;TZID=America/Sao_Paulo:20220226T170000
DTEND;TZID=America/Sao_Paulo:20220226T200000
DTSTAMP:20260423T180305
CREATED:20220102T120045Z
LAST-MODIFIED:20220125T184948Z
UID:2515-1645894800-1645905600@ictrindade.com.br
SUMMARY:Momento Mulher - Fev 2022
DESCRIPTION:
URL:https://ictrindade.com.br/evento/momento-mulher-fev-2022/
ORGANIZER;CN="Igreja Crist%C3%A3 da Trindade":MAILTO:falecom@ictrindade.com.br
END:VEVENT
BEGIN:VEVENT
DTSTART;VALUE=DATE:20211120
DTEND;VALUE=DATE:20211122
DTSTAMP:20260423T180305
CREATED:20210224T204029Z
LAST-MODIFIED:20211010T134659Z
UID:2373-1637366400-1637539199@ictrindade.com.br
SUMMARY:III Congresso de homens da ICT
DESCRIPTION:ACESSAR INFORMAÇÕES DO CONGRESSO
URL:https://ictrindade.com.br/evento/iii-congresso-de-homens-da-ict/
END:VEVENT
BEGIN:VEVENT
DTSTART;TZID=America/Sao_Paulo:20210710T150000
DTEND;TZID=America/Sao_Paulo:20210710T170000
DTSTAMP:20260423T180305
CREATED:20210705T130004Z
LAST-MODIFIED:20210706T211617Z
UID:2331-1625929200-1625936400@ictrindade.com.br
SUMMARY:E.B.F ICT 2021 - Escola Bíblica de Férias
DESCRIPTION:E.B.F – Escola Bíblica de Férias da ICT – Igreja Cristã da Trindade\n10 de Julho de 2021\, às 15h00 (sábado).\nSerá um evento 100% On-Line\, transmitida AO VIVO no Facebook da ICT https://www.facebook.com/ictrindadeSP/ e também no nosso canal do Youtube https://www.youtube.com/ictrindadesp \nTeremos diversas atividade e faremos sorteios de brinquedos. Esperamos vocês ❤️. \n 
URL:https://ictrindade.com.br/evento/e-b-f-ict-2021-escola-biblica-de-ferias/
END:VEVENT
END:VCALENDAR