BEGIN:VCALENDAR
VERSION:2.0
PRODID:-//Igreja Cristã da Trindade - ECPv6.13.2.1//NONSGML v1.0//EN
CALSCALE:GREGORIAN
METHOD:PUBLISH
X-WR-CALNAME:Igreja Cristã da Trindade
X-ORIGINAL-URL:https://ictrindade.com.br
X-WR-CALDESC:Eventos para Igreja Cristã da Trindade
REFRESH-INTERVAL;VALUE=DURATION:PT1H
X-Robots-Tag:noindex
X-PUBLISHED-TTL:PT1H
BEGIN:VTIMEZONE
TZID:America/Sao_Paulo
BEGIN:STANDARD
TZOFFSETFROM:-0300
TZOFFSETTO:-0300
TZNAME:-03
DTSTART:20260101T000000
END:STANDARD
END:VTIMEZONE
BEGIN:VEVENT
DTSTART;TZID=America/Sao_Paulo:20261113T180000
DTEND;TZID=America/Sao_Paulo:20261115T200000
DTSTAMP:20260423T135634
CREATED:20260418T170413Z
LAST-MODIFIED:20260419T112137Z
UID:3042-1794592800-1794772800@ictrindade.com.br
SUMMARY:Retiro de Teens e Jovens
DESCRIPTION:CLIQUE AQUI E SAIBA MAIS!\n  \n 
URL:https://ictrindade.com.br/evento/retiro-de-teens-e-jovens/
LOCATION:Rancho Rio Selvagem\, rodovia regis bittencourt km 328\,5\, SP\, Brazil
END:VEVENT
END:VCALENDAR